Workbook

Sheet Summary
B2: Medical Expense Worksheet
B3: Name: ________________________ S.I.N.: ______________________________
B4: Name: _________________________ S.I.N.: ______________________________
A5: Farm Name: | B5: Province (AB or BC): | C5: AB
A6: Year: | B6: 2025
A7: Revenue | B7: MEDICAL TYPE | C7: Amount
B8: Prescription | C8: =SUM('Medical Input'!B51) -> 0
B9: Dental | C9: =SUM('Medical Input'!C51) -> 0
B10: Private Health Care (Blue Cross) | C10: =SUM('Medical Input'!D51) -> 0
B11: Chiropractor | C11: =SUM('Medical Input'!E51) -> 0
B12: Optical | C12: =SUM('Medical Input'!F51) -> 0
B13: Physio | C13: =SUM('Medical Input'!G51) -> 0
B14: Acupunture | C14: =SUM('Medical Input'!H51) -> 0
B15: Parking | C15: =SUM('Medical Input'!I51) -> 0
B16: Other | C16: =SUM('Medical Input'!J51) -> 0
D17: From Medical
A18: Gross Income | B18: TOTAL | C18: =SUM(C8:C16) -> 0 | D18: and Travel
D19: Input Tables
B24: MEALS/TRAVEL | C24: # of | D24: Rate/ Meal
B25: Meals- | C25: =SUM('Travel Input'!C29) -> 0 | D25: 23 | E25: =SUM(C25*D25) -> 0
B27: Travel/km 0.565 (AB) / 0.595 (BC) | C27: =+'Travel Input'!D29 -> 0 | D27: =IF(C5="AB",0.565,IF(C5="BC",0.595,0)) -> 0.565 | E27: =SUM(C27*D27) -> 0
B28: Accommodations | E28: =SUM('Travel Input'!G29) -> 0
D29: TOTAL TRAVEL | E29: =SUM(E25,E27,E28) -> 0
B32: TOTAL MEDICAL EXPENSES | E32: =SUM(C18,E29) -> 0
B33: Please attach medical receipts
B35: CRA Link: | C35: CRA Allowable Medical Expenses
B37: Medical Practitioners by Prov: | C37: CRA Allowable Medical Practitioners by Province
B39: Medical Travel Rates: | C39: Travel and Meal Rates

Sheet Medical Input
A2: =+Summary!B6 -> 2025
A3: Description | B3: Prescription | C3: Dental | D3: Premium Private Health Care (ie Blue Cross) | E3: Chiropractor | F3: Optical | G3: Physiotherapy | H3: Acupunture | I3: Parking | J3: Other
A5: Safeway | B5: 45
A6: GP Physio | B6: 0 | F6: 50
B51: =SUM(B7:B50) -> 0 | C51: =SUM(C7:C50) -> 0 | D51: =SUM(D7:D50) -> 0 | E51: =SUM(E7:E50) -> 0 | F51: =SUM(F7:F50) -> 0 | G51: =SUM(G7:G50) -> 0 | H51: =SUM(H7:H50) -> 0 | I51: =SUM(I7:I50) -> 0 | J51: =SUM(J7:J50) -> 0

Sheet Travel Input
A1: Date of Trip | B1: Destination | C1: # of Meals | D1: Round Trip Mileage | E1: Reason for Trip | F1: Patients | G1: Accommodations
C29: =SUM(C2:C28) -> 0 | D29: =SUM(D2:D28) -> 0 | G29: =SUM(G2:G28) -> 0
